Workbook
Name ckboxar: Blad1!$O$8,Blad1!$O$10,Blad1!#REF!,Blad1!#REF!,Blad1!#REF!,Blad1!#REF!,Blad1!#REF!,Blad1!#REF!,Blad1!#REF!,Blad1!#REF!,Blad1!#REF!,Blad1!#REF!
Name ckboxar: Blad1!$O$8,Blad1!$O$10,Blad1!#REF!,Blad1!#REF!,Blad1!#REF!,Blad1!#REF!,Blad1!#REF!,Blad1!#REF!,Blad1!#REF!,Blad1!#REF!,Blad1!#REF!,Blad1!#REF!
Name Personal: 'Formler Blad3'!$C$47:$C$63
Name Personal: Blad3!$C$47:$C$63

Sheet Blad1
D1: <-Egen Datum | G1: <-Annan Vecka | J1: * Ange själv datum (ÅÅÅÅ-MM-DD) eller Veckonr i de gula rutorna, annars anges dagens datum automatiskt
A4: År | B4: =IF(B1=0,YEAR(Blad3!B5),YEAR(Blad3!B5)) -> 2012 | J4: * B4 Årtal enskilt
A6: Månad | B6: =IF(Blad3!B4=1,"Januari",IF(Blad3!B4=2,"Februari",IF(Blad3!B4=3,"Mars",IF(Blad3!B4=4,"April",IF(Blad3!B4=5,"Maj",IF(Blad3!B4=6,"Juni",IF(Blad3!B4=7,"Juli",IF(Blad3!B4=8,"Augusti",IF(Blad3!B4=9,"September",IF(Blad3!B4=10,"Oktober",IF(Blad3!B4=11,"November",IF(Blad3!B4=12,"December","")))))))))))) -> September | J6: * B6 Månad Enskilt i text baserad på Blad3 B4
A8: Vecka | B8: =Blad3!B7 -> 38 | J8: * B8 visar veckonummret på den vecka man väljer eller vilken vecka som infaller den datum som skrivs in
A10: Dag | B10: Datum | J10: * B11-B17 Tar ut rätt datum för en vecka från listan på Blad3
A11: Må | B11: =Blad3!B10 -> 17
A12: Ti | B12: =Blad3!B11 -> 18
A13: On | B13: =Blad3!B12 -> 19
A14: To | B14: =Blad3!B13 -> 20
A15: Fr | B15: =Blad3!B14 -> 21
A16: Lö | B16: =Blad3!B15 -> 22
A17: Sö | B17: =Blad3!B16 -> 23
A19: Allmänna helgdagar i Veckan
A20: =IF(Blad3!$E$10="1","Må",IF(Blad3!$E$11="2","Ti",IF(Blad3!$E$12="3","On",IF(Blad3!$E$13="4","To",IF(Blad3!$E$14="5","Fr",IF(Blad3!$E$15="6","Lö",IF(Blad3!$E$16="7","Sö",""))))))) | B20: =IF(Blad3!$E$10="1",$B$11,IF(Blad3!$E$11="2",$B$12,IF(Blad3!$E$12="3",$B$13,IF(Blad3!$E$13="4",$B$14,IF(Blad3!$E$14="5",$B$15,IF(Blad3!$E$15="6",$B$16,IF(Blad3!$E$16="7",$B$17,""))))))) | C20: =IF($B20<1,"",IFERROR(VLOOKUP($B20,Blad3!$B$10:$C$16,2,FALSE),"")) | J20: * A20-A22 Visar veckodagen helgen infaller på, Informationen hämtas från Blad3 E9-E15
A21: =IF($A20="Må",IF(Blad3!$E$11="2","Ti",IF(Blad3!$E$12="3","On",IF(Blad3!$E$13="4","To",IF(Blad3!$E$14="5","Fr",IF(Blad3!$E$15="6","Lö",IF(Blad3!$E$16="7","Sö","")))))),IF($A20="Ti",IF(Blad3!$E$12="3","On",IF(Blad3!$E$13="4","To",IF(Blad3!$E$14="5","Fr",IF(Blad3!$E$15="6","Lö",IF(Blad3!$E$16="7","Sö",""))))),IF($A20="On",IF(Blad3!$E$13="4","To",IF(Blad3!$E$14="5","Fr",IF(Blad3!$E$15="6","Lö",IF(Blad3!$E$16="7","Sö","")))),IF($A20="To",IF(Blad3!$E$14="5","Fr",IF(Blad3!$E$15="6","Lö",IF(Blad3!$E$16="7","Sö",""))),IF($A20="Fr",IF(Blad3!$E$15="6","Lö",IF(Blad3!$E$16="7","Sö","")),IF($A20="Lö",IF(Blad3!$E$16="7","Sö",""),"")))))) | B21: =IF($A21="Ti",IF(Blad3!$E$11="2",$B$12,IF(Blad3!$E$12="3",$B$13,IF(Blad3!$E$13="4",$B$14,IF(Blad3!$E$14="5",$B$15,IF(Blad3!$E$15="6",$B$16,IF(Blad3!$E$16="7",$B$17,"")))))),IF($A21="On",IF(Blad3!$E$12="3",$B$13,IF(Blad3!$E$13="4",$B$14,IF(Blad3!$E$14="5",$B$15,IF(Blad3!$E$15="6",$B$16,IF(Blad3!$E$16="7",$B$17,""))))),IF($A21="To",IF(Blad3!$E$13="4",$B$14,IF(Blad3!$E$14="5",$B$15,IF(Blad3!$E$15="6",$B$16,IF(Blad3!$E$16="7",$B$17,"")))),IF($A21="Fr",IF(Blad3!$E$14="5",$B$15,IF(Blad3!$E$15="6",$B$16,IF(Blad3!$E$16="7",$B$17,""))),IF($A21="Lö",IF(Blad3!$E$15="6",$B$16,IF(Blad3!$E$16="7",$B$17,"")),IF($A21="Sö",IF(Blad3!$E$16="7",$B$17,""),"")))))) | C21: =IF($B21<1,"",IFERROR(VLOOKUP($B21,Blad3!$B$10:$C$16,2,FALSE),"")) | J21: * B20-B22 Visar Datumen och baserar uträkningen via A15-A17 & Blad3 E9-E15
A22: =IF($A21="Må",IF(Blad3!$E$11="2","Ti",IF(Blad3!$E$12="3","On",IF(Blad3!$E$13="4","To",IF(Blad3!$E$14="5","Fr",IF(Blad3!$E$15="6","Lö",IF(Blad3!$E$16="7","Sö","")))))),IF($A21="Ti",IF(Blad3!$E$12="3","On",IF(Blad3!$E$13="4","To",IF(Blad3!$E$14="5","Fr",IF(Blad3!$E$15="6","Lö",IF(Blad3!$E$16="7","Sö",""))))),IF($A21="On",IF(Blad3!$E$13="4","To",IF(Blad3!$E$14="5","Fr",IF(Blad3!$E$15="6","Lö",IF(Blad3!$E$16="7","Sö","")))),IF($A21="To",IF(Blad3!$E$14="5","Fr",IF(Blad3!$E$15="6","Lö",IF(Blad3!$E$16="7","Sö",""))),IF($A21="Fr",IF(Blad3!$E$15="6","Lö",IF(Blad3!$E$16="7","Sö","")),IF($A21="Lö",IF(Blad3!$E$16="7","Sö",""),"")))))) | B22: =IF($A22="Ti",IF(Blad3!$E$11="2",$B$12,IF(Blad3!$E$12="3",$B$13,IF(Blad3!$E$13="4",$B$14,IF(Blad3!$E$14="5",$B$15,IF(Blad3!$E$15="6",$B$16,IF(Blad3!$E$16="7",$B$17,"")))))),IF($A22="On",IF(Blad3!$E$12="3",$B$13,IF(Blad3!$E$13="4",$B$14,IF(Blad3!$E$14="5",$B$15,IF(Blad3!$E$15="6",$B$16,IF(Blad3!$E$16="7",$B$17,""))))),IF($A22="To",IF(Blad3!$E$13="4",$B$14,IF(Blad3!$E$14="5",$B$15,IF(Blad3!$E$15="6",$B$16,IF(Blad3!$E$16="7",$B$17,"")))),IF($A22="Fr",IF(Blad3!$E$14="5",$B$15,IF(Blad3!$E$15="6",$B$16,IF(Blad3!$E$16="7",$B$17,""))),IF($A22="Lö",IF(Blad3!$E$15="6",$B$16,IF(Blad3!$E$16="7",$B$17,"")),IF($A22="Sö",IF(Blad3!$E$16="7",$B$17,""),"")))))) | C22: =IF($B22<1,"",IFERROR(VLOOKUP($B22,Blad3!$B$10:$C$16,2,FALSE),"")) | J22: * C20-C22 Hämtar informationen från Blad3 C9-C15

Sheet Blad3
B1: =YEAR(B5) -> 2012 | I1: * Ruta B1 är bara för att kunna räkna ut Påskdagen
A2: Valfri V.Nr | B2: =IF(Blad1!F1=0,"",DATE(YEAR(TODAY()), 1, 1)+((Blad1!F1)*7)) | I2: * Ruta B2 visar datum för det veckonummer du skriver in på blad1
A4: Månad | B4: =IF(Blad1!B1=0,MONTH(B5),MONTH(B5)) -> 9 | I4: * B4 Anger månaden i nr
A5: Dagens Datum | B5: =IF(Blad1!B1=0,IF(Blad1!F1>0,B2,TODAY()),Blad1!B1) -> 41170 | I5: * Ruta B5 baserars på om det står någon annan datum eller vecka inskriven annars visar den dagens datum
A6: Veckodag | B6: =TEXT(B5,"ddd") -> ti | I6: * B6 Är vecko dagen
A7: Vecko Nr | B7: =INT((B5-DATE(YEAR(B5-WEEKDAY(B5-1)+4),1,3)+WEEKDAY(DATE(YEAR(B5-WEEKDAY(B5-1)+4),1,3))+5)/7) -> 38 | I7: * B7 Är Vecko nr, denna ändras om annat vecko nr anges på blad 1
C9: Allmänna helgdagar
A10: Må | B10: =IF($B$5="","",DAY($G10)) -> 17 | C10: =IFERROR(VLOOKUP($G10,$B$19:$C$43,2,FALSE),"") | D10: =IF($C10="","b","a") -> b | E10: =IF($D10="b","","1") | F10: =IF($B$6="Må",0,IF($B$6="Ti",-1,IF($B$6="On",-2,IF($B$6="To",-3,IF($B$6="Fr",-4,IF($B$6="Lö",-5,IF($B$6="Sö",-6,"x"))))))) -> -1 | G10: =IF($B$6="må",IF($F10=0,$B$5,IF($F10>0,$B$5+$F10,$B$5+$F10)),IF($B$6="ti",IF($F10=0,$B$5,IF($F10>0,$B$5+$F10,$B$5+$F10)),IF($B$6="on",IF($F10=0,$B$5,IF($F10>0,$B$5+$F10,$B$5+$F10)),IF($B$6="to",IF($F10=0,$B$5,IF($F10>0,$B$5+$F10,$B$5+$F10)),IF($B$6="fr",IF($F10=0,$B$5,IF($F10>0,$B$5+$F10,$B$5+$F10)),IF($B$6="lö",IF($F10=0,$B$5,IF($F10>0,$B$5+$F10,$B$5+$F10)),IF($B$6="sö",IF($F10=0,$B$5,IF($F10>0,$B$5+$F10,$B$5+$F10)),"8a"))))))) -> 41169 | I10: * Rutorna A10-A16 anger bara veckodag
A11: Ti | B11: =IF($B$5="","",DAY($G11)) -> 18 | C11: =IFERROR(VLOOKUP($G11,$B$19:$C$43,2,FALSE),"") | D11: =IF($C11="","b","a") -> b | E11: =IF($D11="b","","2") | F11: =IF($B$6="Må",1,IF($B$6="Ti",0,IF($B$6="On",-1,IF($B$6="To",-2,IF($B$6="Fr",-3,IF($B$6="Lö",-4,IF($B$6="Sö",-5,"x"))))))) -> 0 | G11: =IF($B$6="må",IF($F11=0,$B$5,IF($F11>0,$B$5+$F11,$B$5+$F11)),IF($B$6="ti",IF($F11=0,$B$5,IF($F11>0,$B$5+$F11,$B$5+$F11)),IF($B$6="on",IF($F11=0,$B$5,IF($F11>0,$B$5+$F11,$B$5+$F11)),IF($B$6="to",IF($F11=0,$B$5,IF($F11>0,$B$5+$F11,$B$5+$F11)),IF($B$6="fr",IF($F11=0,$B$5,IF($F11>0,$B$5+$F11,$B$5+$F11)),IF($B$6="lö",IF($F11=0,$B$5,IF($F11>0,$B$5+$F11,$B$5+$F11)),IF($B$6="sö",IF($F11=0,$B$5,IF($F11>0,$B$5+$F11,$B$5+$F11)),"8a"))))))) -> 41170 | I11: * B10-B16 Tar ut dagen från G10-G16
A12: On | B12: =IF($B$5="","",DAY($G12)) -> 19 | C12: =IFERROR(VLOOKUP($G12,$B$19:$C$43,2,FALSE),"") | D12: =IF($C12="","b","a") -> b | E12: =IF($D12="b","","3") | F12: =IF($B$6="Må",2,IF($B$6="Ti",1,IF($B$6="On",0,IF($B$6="To",-1,IF($B$6="Fr",-2,IF($B$6="Lö",-3,IF($B$6="Sö",-4,"x"))))))) -> 1 | G12: =IF($B$6="må",IF($F12=0,$B$5,IF($F12>0,$B$5+$F12,$B$5+$F12)),IF($B$6="ti",IF($F12=0,$B$5,IF($F12>0,$B$5+$F12,$B$5+$F12)),IF($B$6="on",IF($F12=0,$B$5,IF($F12>0,$B$5+$F12,$B$5+$F12)),IF($B$6="to",IF($F12=0,$B$5,IF($F12>0,$B$5+$F12,$B$5+$F12)),IF($B$6="fr",IF($F12=0,$B$5,IF($F12>0,$B$5+$F12,$B$5+$F12)),IF($B$6="lö",IF($F12=0,$B$5,IF($F12>0,$B$5+$F12,$B$5+$F12)),IF($B$6="sö",IF($F12=0,$B$5,IF($F12>0,$B$5+$F12,$B$5+$F12)),"8a"))))))) -> 41171 | I12: * C10-C16 listar de helgdagar som infaller på den dagens datum
A13: To | B13: =IF($B$5="","",DAY($G13)) -> 20 | C13: =IFERROR(VLOOKUP($G13,$B$19:$C$43,2,FALSE),"") | D13: =IF($C13="","b","a") -> b | E13: =IF($D13="b","","4") | F13: =IF($B$6="Må",3,IF($B$6="Ti",2,IF($B$6="On",1,IF($B$6="To",0,IF($B$6="Fr",-1,IF($B$6="Lö",-2,IF($B$6="Sö",-3,"x"))))))) -> 2 | G13: =IF($B$6="må",IF($F13=0,$B$5,IF($F13>0,$B$5+$F13,$B$5+$F13)),IF($B$6="ti",IF($F13=0,$B$5,IF($F13>0,$B$5+$F13,$B$5+$F13)),IF($B$6="on",IF($F13=0,$B$5,IF($F13>0,$B$5+$F13,$B$5+$F13)),IF($B$6="to",IF($F13=0,$B$5,IF($F13>0,$B$5+$F13,$B$5+$F13)),IF($B$6="fr",IF($F13=0,$B$5,IF($F13>0,$B$5+$F13,$B$5+$F13)),IF($B$6="lö",IF($F13=0,$B$5,IF($F13>0,$B$5+$F13,$B$5+$F13)),IF($B$6="sö",IF($F13=0,$B$5,IF($F13>0,$B$5+$F13,$B$5+$F13)),"8a"))))))) -> 41172 | I13: * D10-E16 används så rätt dag och datum listas på Blad1 till rätt helgdag
A14: Fr | B14: =IF($B$5="","",DAY($G14)) -> 21 | C14: =IFERROR(VLOOKUP($G14,$B$19:$C$43,2,FALSE),"") | D14: =IF($C14="","b","a") -> b | E14: =IF($D14="b","","5") | F14: =IF($B$6="Må",4,IF($B$6="Ti",3,IF($B$6="On",2,IF($B$6="To",1,IF($B$6="Fr",0,IF($B$6="Lö",-1,IF($B$6="Sö",-2,"x"))))))) -> 3 | G14: =IF($B$6="må",IF($F14=0,$B$5,IF($F14>0,$B$5+$F14,$B$5+$F14)),IF($B$6="ti",IF($F14=0,$B$5,IF($F14>0,$B$5+$F14,$B$5+$F14)),IF($B$6="on",IF($F14=0,$B$5,IF($F14>0,$B$5+$F14,$B$5+$F14)),IF($B$6="to",IF($F14=0,$B$5,IF($F14>0,$B$5+$F14,$B$5+$F14)),IF($B$6="fr",IF($F14=0,$B$5,IF($F14>0,$B$5+$F14,$B$5+$F14)),IF($B$6="lö",IF($F14=0,$B$5,IF($F14>0,$B$5+$F14,$B$5+$F14)),IF($B$6="sö",IF($F14=0,$B$5,IF($F14>0,$B$5+$F14,$B$5+$F14)),"8a"))))))) -> 41173 | I14: * F10-F16 används för att räkna ut rätt datum till rätt dag baserad på veckodag
A15: Lö | B15: =IF($B$5="","",DAY($G15)) -> 22 | C15: =IFERROR(VLOOKUP($G15,$B$19:$C$43,2,FALSE),"") | D15: =IF($C15="","b","a") -> b | E15: =IF($D15="b","","6") | F15: =IF($B$6="Må",5,IF($B$6="Ti",4,IF($B$6="On",3,IF($B$6="To",2,IF($B$6="Fr",1,IF($B$6="Lö",0,IF($B$6="Sö",-1,"x"))))))) -> 4 | G15: =IF($B$6="må",IF($F15=0,$B$5,IF($F15>0,$B$5+$F15,$B$5+$F15)),IF($B$6="ti",IF($F15=0,$B$5,IF($F15>0,$B$5+$F15,$B$5+$F15)),IF($B$6="on",IF($F15=0,$B$5,IF($F15>0,$B$5+$F15,$B$5+$F15)),IF($B$6="to",IF($F15=0,$B$5,IF($F15>0,$B$5+$F15,$B$5+$F15)),IF($B$6="fr",IF($F15=0,$B$5,IF($F15>0,$B$5+$F15,$B$5+$F15)),IF($B$6="lö",IF($F15=0,$B$5,IF($F15>0,$B$5+$F15,$B$5+$F15)),IF($B$6="sö",IF($F15=0,$B$5,IF($F15>0,$B$5+$F15,$B$5+$F15)),"8a"))))))) -> 41174 | I15: * G10-G16 är själva datumen som räknas ut och sedan används
A16: Sö | B16: =IF($B$5="","",DAY($G16)) -> 23 | C16: =IFERROR(VLOOKUP($G16,$B$19:$C$43,2,FALSE),"") | D16: =IF($C16="","b","a") -> b | E16: =IF($D16="b","","7") | F16: =IF($B$6="Må",6,IF($B$6="Ti",5,IF($B$6="On",4,IF($B$6="To",3,IF($B$6="Fr",2,IF($B$6="Lö",1,IF($B$6="Sö",0,"x"))))))) -> 5 | G16: =IF($B$6="må",IF($F16=0,$B$5,IF($F16>0,$B$5+$F16,$B$5+$F16)),IF($B$6="ti",IF($F16=0,$B$5,IF($F16>0,$B$5+$F16,$B$5+$F16)),IF($B$6="on",IF($F16=0,$B$5,IF($F16>0,$B$5+$F16,$B$5+$F16)),IF($B$6="to",IF($F16=0,$B$5,IF($F16>0,$B$5+$F16,$B$5+$F16)),IF($B$6="fr",IF($F16=0,$B$5,IF($F16>0,$B$5+$F16,$B$5+$F16)),IF($B$6="lö",IF($F16=0,$B$5,IF($F16>0,$B$5+$F16,$B$5+$F16)),IF($B$6="sö",IF($F16=0,$B$5,IF($F16>0,$B$5+$F16,$B$5+$F16)),"8a"))))))) -> 41175
C18: Helgdagarna i Sverige
B19: =DATE((YEAR(B5)),1,1) -> 40909 | C19: Nyårsdagen | I19: * B19-C43 är datum och helgdagar på hela året
B20: =DATE((YEAR(B5)),1,6) -> 40914 | C20: Trettondedag jul | I20: * De med rörliga datum är baserade på andra T.ex Påskdagen måste vara med för
B21: =DATE(YEAR(B5),2,14) -> 40953 | C21: Alla hjärtans dag | I21: att beräkning av bl.a skärtorsdag skall bli rätt
B22: =DATE(YEAR(B5),4,1)-WEEKDAY((DATE(YEAR(B5),4,1)),2) -> 40993 | C22: Sommartid | I22: * Sommartid, Vintertid, Morsdag och fars dag är baserad på hur söndagarna kommer i månaden
B23: =(B25)-3 -> 41004 | C23: Skärtorsdagen
B24: =(B25)-2 -> 41005 | C24: Långfredagen
B25: =FLOOR(DATE(B1,5,DAY(MINUTE(B1/38)/2+56)),7)-34 -> 41007 | C25: Påskdagen
B26: =(B25)+1 -> 41008 | C26: Annandag påsk
B27: =DATE(YEAR(B5),5,1) -> 41030 | C27: Första maj
B28: =DATE(YEAR(B5),6,1)-WEEKDAY((DATE(YEAR(B5),6,1)),2) -> 41056 | C28: Mors Dag
B29: =(B25)+39 -> 41046 | C29: Kristi Himmelsfärdsdag
B30: =DATE(YEAR(B5),6,6) -> 41066 | C30: Sveriges nationaldag
B31: =(B25)+49 -> 41056 | C31: Pingstdagen
B32: =(B31)+1 -> 41057 | C32: Annandag pingst
B33: =(B34)-1 -> 41082 | C33: Midsommarafton
B34: =DATE(B1,6,20+(7-WEEKDAY(DATE(B1,6,20)))) -> 41083 | C34: Midsommardagen
B35: =DATE(YEAR(B5),11,1)-WEEKDAY((DATE(YEAR(B5),11,1)),2) -> 41210 | C35: Vintertid
B36: =DATE(YEAR(B5),10,31) -> 41213 | C36: Halloween
B37: =DATE(B1,10,31+(7-WEEKDAY(DATE(B1,10,31)))) -> 41216 | C37: Alla helgons dag
B38: =DATE(YEAR(B5),11,7+CHOOSE(WEEKDAY(DATE(YEAR(B5),11,1)),1,0,6,5,4,3,2)) -> 41224 | C38: Fars dag
B39: =DATE(YEAR(B5),12,13) -> 41256 | C39: Lucia
B40: =DATE(YEAR(B5),12,24) -> 41267 | C40: Julafton
B41: =DATE(YEAR(B5),12,25) -> 41268 | C41: Juldagen
B42: =DATE(YEAR(B5),12,26) -> 41269 | C42: Annandag jul
B43: =DATE(YEAR(B5),12,31) -> 41274 | C43: Nyårsafton
B81: toni | C81: Tony Nilsson

Sheet Formler Blad1
D1: <-Egen Datum | G1: <-Annan Vecka | J1: * Ange själv datum (ÅÅÅÅ-MM-DD) eller Veckonr i de gula rutorna, annars anges dagens datum automatiskt
A4: År | B4: =IF(B1=0,YEAR(Blad3!B5),YEAR(TODAY())) -> 2012 | J4: * B4 Årtal enskilt
A6: Månad | B6: =IF(Blad3!B4=1,"Januari",IF(Blad3!B4=2,"Februari",IF(Blad3!B4=3,"Mars",IF(Blad3!B4=4,"April",IF(Blad3!B4=5,"Maj",IF(Blad3!B4=6,"Juni",IF(Blad3!B4=7,"Juli",IF(Blad3!B4=8,"Augusti",IF(Blad3!B4=9,"September",IF(Blad3!B4=10,"Oktober",IF(Blad3!B4=11,"November",IF(Blad3!B4=12,"December","")))))))))))) -> September | J6: * B6 Månad Enskilt i text baserad på Blad3 B4
A8: Vecka | B8: =Blad3!B7 -> 38 | J8: * B8 visar veckonummret på den vecka man väljer eller vilken vecka som infaller den datum som skrivs in
A10: Dag | B10: Datum | J10: * B11-B17 Tar ut rätt datum för en vecka från listan på Blad3
A11: Må | B11: =Blad3!B10 -> 17
A12: Ti | B12: =Blad3!B11 -> 18
A13: On | B13: =Blad3!B12 -> 19
A14: To | B14: =Blad3!B13 -> 20
A15: Fr | B15: =Blad3!B14 -> 21
A16: Lö | B16: =Blad3!B15 -> 22
A17: Sö | B17: =Blad3!B16 -> 23
A19: Allmänna helgdagar i Veckan
A20: =IF(Blad3!$E$10="1","Må",IF(Blad3!$E$11="2","Ti",IF(Blad3!$E$12="3","On",IF(Blad3!$E$13="4","To",IF(Blad3!$E$14="5","Fr",IF(Blad3!$E$15="6","Lö",IF(Blad3!$E$16="7","Sö",""))))))) | B20: =IF(Blad3!$E$10="1",$B$11,IF(Blad3!$E$11="2",$B$12,IF(Blad3!$E$12="3",$B$13,IF(Blad3!$E$13="4",$B$14,IF(Blad3!$E$14="5",$B$15,IF(Blad3!$E$15="6",$B$16,IF(Blad3!$E$16="7",$B$17,""))))))) | C20: =IF($B20<1,"",IFERROR(VLOOKUP($B20,Blad3!$B$10:$C$16,2,FALSE),"")) | J20: * A20-A22 Visar veckodagen helgen infaller på, Informationen hämtas från Blad3 E9-E15
A21: =IF($A20="Må",IF(Blad3!$E$11="2","Ti",IF(Blad3!$E$12="3","On",IF(Blad3!$E$13="4","To",IF(Blad3!$E$14="5","Fr",IF(Blad3!$E$15="6","Lö",IF(Blad3!$E$16="7","Sö","")))))),IF($A20="Ti",IF(Blad3!$E$12="3","On",IF(Blad3!$E$13="4","To",IF(Blad3!$E$14="5","Fr",IF(Blad3!$E$15="6","Lö",IF(Blad3!$E$16="7","Sö",""))))),IF($A20="On",IF(Blad3!$E$13="4","To",IF(Blad3!$E$14="5","Fr",IF(Blad3!$E$15="6","Lö",IF(Blad3!$E$16="7","Sö","")))),IF($A20="To",IF(Blad3!$E$14="5","Fr",IF(Blad3!$E$15="6","Lö",IF(Blad3!$E$16="7","Sö",""))),IF($A20="Fr",IF(Blad3!$E$15="6","Lö",IF(Blad3!$E$16="7","Sö","")),IF($A20="Lö",IF(Blad3!$E$16="7","Sö",""),"")))))) | B21: =IF($A21="Ti",IF(Blad3!$E$11="2",$B$12,IF(Blad3!$E$12="3",$B$13,IF(Blad3!$E$13="4",$B$14,IF(Blad3!$E$14="5",$B$15,IF(Blad3!$E$15="6",$B$16,IF(Blad3!$E$16="7",$B$17,"")))))),IF($A21="On",IF(Blad3!$E$12="3",$B$13,IF(Blad3!$E$13="4",$B$14,IF(Blad3!$E$14="5",$B$15,IF(Blad3!$E$15="6",$B$16,IF(Blad3!$E$16="7",$B$17,""))))),IF($A21="To",IF(Blad3!$E$13="4",$B$14,IF(Blad3!$E$14="5",$B$15,IF(Blad3!$E$15="6",$B$16,IF(Blad3!$E$16="7",$B$17,"")))),IF($A21="Fr",IF(Blad3!$E$14="5",$B$15,IF(Blad3!$E$15="6",$B$16,IF(Blad3!$E$16="7",$B$17,""))),IF($A21="Lö",IF(Blad3!$E$15="6",$B$16,IF(Blad3!$E$16="7",$B$17,"")),IF($A21="Sö",IF(Blad3!$E$16="7",$B$17,""),"")))))) | C21: =IF($B21<1,"",IFERROR(VLOOKUP($B21,Blad3!$B$10:$C$16,2,FALSE),"")) | J21: * B20-B22 Visar Datumen och baserar uträkningen via A15-A17 & Blad3 E9-E15
A22: =IF($A21="Må",IF(Blad3!$E$11="2","Ti",IF(Blad3!$E$12="3","On",IF(Blad3!$E$13="4","To",IF(Blad3!$E$14="5","Fr",IF(Blad3!$E$15="6","Lö",IF(Blad3!$E$16="7","Sö","")))))),IF($A21="Ti",IF(Blad3!$E$12="3","On",IF(Blad3!$E$13="4","To",IF(Blad3!$E$14="5","Fr",IF(Blad3!$E$15="6","Lö",IF(Blad3!$E$16="7","Sö",""))))),IF($A21="On",IF(Blad3!$E$13="4","To",IF(Blad3!$E$14="5","Fr",IF(Blad3!$E$15="6","Lö",IF(Blad3!$E$16="7","Sö","")))),IF($A21="To",IF(Blad3!$E$14="5","Fr",IF(Blad3!$E$15="6","Lö",IF(Blad3!$E$16="7","Sö",""))),IF($A21="Fr",IF(Blad3!$E$15="6","Lö",IF(Blad3!$E$16="7","Sö","")),IF($A21="Lö",IF(Blad3!$E$16="7","Sö",""),"")))))) | B22: =IF($A22="Ti",IF(Blad3!$E$11="2",$B$12,IF(Blad3!$E$12="3",$B$13,IF(Blad3!$E$13="4",$B$14,IF(Blad3!$E$14="5",$B$15,IF(Blad3!$E$15="6",$B$16,IF(Blad3!$E$16="7",$B$17,"")))))),IF($A22="On",IF(Blad3!$E$12="3",$B$13,IF(Blad3!$E$13="4",$B$14,IF(Blad3!$E$14="5",$B$15,IF(Blad3!$E$15="6",$B$16,IF(Blad3!$E$16="7",$B$17,""))))),IF($A22="To",IF(Blad3!$E$13="4",$B$14,IF(Blad3!$E$14="5",$B$15,IF(Blad3!$E$15="6",$B$16,IF(Blad3!$E$16="7",$B$17,"")))),IF($A22="Fr",IF(Blad3!$E$14="5",$B$15,IF(Blad3!$E$15="6",$B$16,IF(Blad3!$E$16="7",$B$17,""))),IF($A22="Lö",IF(Blad3!$E$15="6",$B$16,IF(Blad3!$E$16="7",$B$17,"")),IF($A22="Sö",IF(Blad3!$E$16="7",$B$17,""),"")))))) | C22: =IF($B22<1,"",IFERROR(VLOOKUP($B22,Blad3!$B$10:$C$16,2,FALSE),"")) | J22: * C20-C22 Hämtar informationen från Blad3 C9-C15

Sheet Formler Blad3
B1: =YEAR(B5) -> 2012 | I1: * Ruta B1 är bara för att kunna räkna ut Påskdagen
A2: Valfri V.Nr | B2: =IF(Blad1!F1=0,"",DATE(YEAR(TODAY()), 1, 1)+((Blad1!F1)*7)) | I2: * Ruta B2 visar datum för det veckonummer du skriver in på blad1
A4: Månad | B4: =IF(Blad1!B1=0,MONTH(B5),MONTH(TODAY())) -> 9 | I4: * B4 Anger månaden i nr
A5: Dagens Datum | B5: =IF(Blad1!B1=0,IF(Blad1!F1>0,B2,TODAY()),Blad1!B1) -> 41170 | I5: * Ruta B5 baserars på om det står någon annan datum eller vecka inskriven annars visar den dagens datum
A6: Veckodag | B6: =TEXT(B5,"ddd") -> ti | I6: * B6 Är vecko dagen
A7: Vecko Nr | B7: =INT((B5-DATE(YEAR(B5-WEEKDAY(B5-1)+4),1,3)+WEEKDAY(DATE(YEAR(B5-WEEKDAY(B5-1)+4),1,3))+5)/7) -> 38 | I7: * B7 Är Vecko nr, denna ändras om annat vecko nr anges på blad 1
C9: Allmänna helgdagar
A10: Må | B10: =IF($B$5="","",DAY($G10)) -> 17 | C10: =IFERROR(VLOOKUP($G10,$B$19:$C$43,2,FALSE),"") | D10: =IF($C10="","b","a") -> b | E10: =IF($D10="b","","1") | F10: =IF($B$6="Må",0,IF($B$6="Ti",-1,IF($B$6="On",-2,IF($B$6="To",-3,IF($B$6="Fr",-4,IF($B$6="Lö",-5,IF($B$6="Sö",-6,"x"))))))) -> -1 | G10: =IF($B$6="må",IF($F10=0,$B$5,IF($F10>0,$B$5+$F10,$B$5+$F10)),IF($B$6="ti",IF($F10=0,$B$5,IF($F10>0,$B$5+$F10,$B$5+$F10)),IF($B$6="on",IF($F10=0,$B$5,IF($F10>0,$B$5+$F10,$B$5+$F10)),IF($B$6="to",IF($F10=0,$B$5,IF($F10>0,$B$5+$F10,$B$5+$F10)),IF($B$6="fr",IF($F10=0,$B$5,IF($F10>0,$B$5+$F10,$B$5+$F10)),IF($B$6="lö",IF($F10=0,$B$5,IF($F10>0,$B$5+$F10,$B$5+$F10)),IF($B$6="sö",IF($F10=0,$B$5,IF($F10>0,$B$5+$F10,$B$5+$F10)),"8a"))))))) -> 41169 | I10: * Rutorna A10-A16 anger bara veckodag
A11: Ti | B11: =IF($B$5="","",DAY($G11)) -> 18 | C11: =IFERROR(VLOOKUP($G11,$B$19:$C$43,2,FALSE),"") | D11: =IF($C11="","b","a") -> b | E11: =IF($D11="b","","2") | F11: =IF($B$6="Må",1,IF($B$6="Ti",0,IF($B$6="On",-1,IF($B$6="To",-2,IF($B$6="Fr",-3,IF($B$6="Lö",-4,IF($B$6="Sö",-5,"x"))))))) -> 0 | G11: =IF($B$6="må",IF($F11=0,$B$5,IF($F11>0,$B$5+$F11,$B$5+$F11)),IF($B$6="ti",IF($F11=0,$B$5,IF($F11>0,$B$5+$F11,$B$5+$F11)),IF($B$6="on",IF($F11=0,$B$5,IF($F11>0,$B$5+$F11,$B$5+$F11)),IF($B$6="to",IF($F11=0,$B$5,IF($F11>0,$B$5+$F11,$B$5+$F11)),IF($B$6="fr",IF($F11=0,$B$5,IF($F11>0,$B$5+$F11,$B$5+$F11)),IF($B$6="lö",IF($F11=0,$B$5,IF($F11>0,$B$5+$F11,$B$5+$F11)),IF($B$6="sö",IF($F11=0,$B$5,IF($F11>0,$B$5+$F11,$B$5+$F11)),"8a"))))))) -> 41170 | I11: * B10-B16 Tar ut dagen från G10-G16
A12: On | B12: =IF($B$5="","",DAY($G12)) -> 19 | C12: =IFERROR(VLOOKUP($G12,$B$19:$C$43,2,FALSE),"") | D12: =IF($C12="","b","a") -> b | E12: =IF($D12="b","","3") | F12: =IF($B$6="Må",2,IF($B$6="Ti",1,IF($B$6="On",0,IF($B$6="To",-1,IF($B$6="Fr",-2,IF($B$6="Lö",-3,IF($B$6="Sö",-4,"x"))))))) -> 1 | G12: =IF($B$6="må",IF($F12=0,$B$5,IF($F12>0,$B$5+$F12,$B$5+$F12)),IF($B$6="ti",IF($F12=0,$B$5,IF($F12>0,$B$5+$F12,$B$5+$F12)),IF($B$6="on",IF($F12=0,$B$5,IF($F12>0,$B$5+$F12,$B$5+$F12)),IF($B$6="to",IF($F12=0,$B$5,IF($F12>0,$B$5+$F12,$B$5+$F12)),IF($B$6="fr",IF($F12=0,$B$5,IF($F12>0,$B$5+$F12,$B$5+$F12)),IF($B$6="lö",IF($F12=0,$B$5,IF($F12>0,$B$5+$F12,$B$5+$F12)),IF($B$6="sö",IF($F12=0,$B$5,IF($F12>0,$B$5+$F12,$B$5+$F12)),"8a"))))))) -> 41171 | I12: * C10-C16 listar de helgdagar som infaller på den dagens datum
A13: To | B13: =IF($B$5="","",DAY($G13)) -> 20 | C13: =IFERROR(VLOOKUP($G13,$B$19:$C$43,2,FALSE),"") | D13: =IF($C13="","b","a") -> b | E13: =IF($D13="b","","4") | F13: =IF($B$6="Må",3,IF($B$6="Ti",2,IF($B$6="On",1,IF($B$6="To",0,IF($B$6="Fr",-1,IF($B$6="Lö",-2,IF($B$6="Sö",-3,"x"))))))) -> 2 | G13: =IF($B$6="må",IF($F13=0,$B$5,IF($F13>0,$B$5+$F13,$B$5+$F13)),IF($B$6="ti",IF($F13=0,$B$5,IF($F13>0,$B$5+$F13,$B$5+$F13)),IF($B$6="on",IF($F13=0,$B$5,IF($F13>0,$B$5+$F13,$B$5+$F13)),IF($B$6="to",IF($F13=0,$B$5,IF($F13>0,$B$5+$F13,$B$5+$F13)),IF($B$6="fr",IF($F13=0,$B$5,IF($F13>0,$B$5+$F13,$B$5+$F13)),IF($B$6="lö",IF($F13=0,$B$5,IF($F13>0,$B$5+$F13,$B$5+$F13)),IF($B$6="sö",IF($F13=0,$B$5,IF($F13>0,$B$5+$F13,$B$5+$F13)),"8a"))))))) -> 41172 | I13: * D10-E16 används så rätt dag och datum listas på Blad1 till rätt helgdag
A14: Fr | B14: =IF($B$5="","",DAY($G14)) -> 21 | C14: =IFERROR(VLOOKUP($G14,$B$19:$C$43,2,FALSE),"") | D14: =IF($C14="","b","a") -> b | E14: =IF($D14="b","","5") | F14: =IF($B$6="Må",4,IF($B$6="Ti",3,IF($B$6="On",2,IF($B$6="To",1,IF($B$6="Fr",0,IF($B$6="Lö",-1,IF($B$6="Sö",-2,"x"))))))) -> 3 | G14: =IF($B$6="må",IF($F14=0,$B$5,IF($F14>0,$B$5+$F14,$B$5+$F14)),IF($B$6="ti",IF($F14=0,$B$5,IF($F14>0,$B$5+$F14,$B$5+$F14)),IF($B$6="on",IF($F14=0,$B$5,IF($F14>0,$B$5+$F14,$B$5+$F14)),IF($B$6="to",IF($F14=0,$B$5,IF($F14>0,$B$5+$F14,$B$5+$F14)),IF($B$6="fr",IF($F14=0,$B$5,IF($F14>0,$B$5+$F14,$B$5+$F14)),IF($B$6="lö",IF($F14=0,$B$5,IF($F14>0,$B$5+$F14,$B$5+$F14)),IF($B$6="sö",IF($F14=0,$B$5,IF($F14>0,$B$5+$F14,$B$5+$F14)),"8a"))))))) -> 41173 | I14: * F10-F16 används för att räkna ut rätt datum till rätt dag baserad på veckodag
A15: Lö | B15: =IF($B$5="","",DAY($G15)) -> 22 | C15: =IFERROR(VLOOKUP($G15,$B$19:$C$43,2,FALSE),"") | D15: =IF($C15="","b","a") -> b | E15: =IF($D15="b","","6") | F15: =IF($B$6="Må",5,IF($B$6="Ti",4,IF($B$6="On",3,IF($B$6="To",2,IF($B$6="Fr",1,IF($B$6="Lö",0,IF($B$6="Sö",-1,"x"))))))) -> 4 | G15: =IF($B$6="må",IF($F15=0,$B$5,IF($F15>0,$B$5+$F15,$B$5+$F15)),IF($B$6="ti",IF($F15=0,$B$5,IF($F15>0,$B$5+$F15,$B$5+$F15)),IF($B$6="on",IF($F15=0,$B$5,IF($F15>0,$B$5+$F15,$B$5+$F15)),IF($B$6="to",IF($F15=0,$B$5,IF($F15>0,$B$5+$F15,$B$5+$F15)),IF($B$6="fr",IF($F15=0,$B$5,IF($F15>0,$B$5+$F15,$B$5+$F15)),IF($B$6="lö",IF($F15=0,$B$5,IF($F15>0,$B$5+$F15,$B$5+$F15)),IF($B$6="sö",IF($F15=0,$B$5,IF($F15>0,$B$5+$F15,$B$5+$F15)),"8a"))))))) -> 41174 | I15: * G10-G16 är själva datumen som räknas ut och sedan används
A16: Sö | B16: =IF($B$5="","",DAY($G16)) -> 23 | C16: =IFERROR(VLOOKUP($G16,$B$19:$C$43,2,FALSE),"") | D16: =IF($C16="","b","a") -> b | E16: =IF($D16="b","","7") | F16: =IF($B$6="Må",6,IF($B$6="Ti",5,IF($B$6="On",4,IF($B$6="To",3,IF($B$6="Fr",2,IF($B$6="Lö",1,IF($B$6="Sö",0,"x"))))))) -> 5 | G16: =IF($B$6="må",IF($F16=0,$B$5,IF($F16>0,$B$5+$F16,$B$5+$F16)),IF($B$6="ti",IF($F16=0,$B$5,IF($F16>0,$B$5+$F16,$B$5+$F16)),IF($B$6="on",IF($F16=0,$B$5,IF($F16>0,$B$5+$F16,$B$5+$F16)),IF($B$6="to",IF($F16=0,$B$5,IF($F16>0,$B$5+$F16,$B$5+$F16)),IF($B$6="fr",IF($F16=0,$B$5,IF($F16>0,$B$5+$F16,$B$5+$F16)),IF($B$6="lö",IF($F16=0,$B$5,IF($F16>0,$B$5+$F16,$B$5+$F16)),IF($B$6="sö",IF($F16=0,$B$5,IF($F16>0,$B$5+$F16,$B$5+$F16)),"8a"))))))) -> 41175
C18: Helgdagarna i Sverige
B19: =DATE((YEAR(B5)),1,1) -> 40909 | C19: Nyårsdagen | I19: * B19-C43 är datum och helgdagar på hela året
B20: =DATE((YEAR(B5)),1,6) -> 40914 | C20: Trettondedag jul | I20: * De med rörliga datum är baserade på andra T.ex Påskdagen måste vara med för
B21: =DATE(YEAR(B5),2,14) -> 40953 | C21: Alla hjärtans dag | I21: att beräkning av bl.a skärtorsdag skall bli rätt
B22: =DATE(YEAR(B5),4,1)-WEEKDAY((DATE(YEAR(B5),4,1)),2) -> 40993 | C22: Sommartid | I22: * Sommartid, Vintertid, Morsdag och fars dag är baserad på hur söndagarna kommer i månaden
B23: =(B25)-3 -> 41004 | C23: Skärtorsdagen
B24: =(B25)-2 -> 41005 | C24: Långfredagen
B25: =FLOOR(DATE(B1,5,DAY(MINUTE(B1/38)/2+56)),7)-34 -> 41007 | C25: Påskdagen
B26: =(B25)+1 -> 41008 | C26: Annandag påsk
B27: =DATE(YEAR(B5),5,1) -> 41030 | C27: Första maj
B28: =DATE(YEAR(B5),6,1)-WEEKDAY((DATE(YEAR(B5),6,1)),2) -> 41056 | C28: Mors Dag
B29: =(B25)+39 -> 41046 | C29: Kristi Himmelsfärdsdag
B30: =DATE(YEAR(B5),6,6) -> 41066 | C30: Sveriges nationaldag
B31: =(B25)+49 -> 41056 | C31: Pingstdagen
B32: =(B31)+1 -> 41057 | C32: Annandag pingst
B33: =(B34)-1 -> 41082 | C33: Midsommarafton
B34: =DATE(B1,6,20+(7-WEEKDAY(DATE(B1,6,20)))) -> 41083 | C34: Midsommardagen
B35: =DATE(YEAR(B5),11,1)-WEEKDAY((DATE(YEAR(B5),11,1)),2) -> 41210 | C35: Vintertid
B36: =DATE(YEAR(B5),10,31) -> 41213 | C36: Halloween
B37: =DATE(B1,10,31+(7-WEEKDAY(DATE(B1,10,31)))) -> 41216 | C37: Alla helgons dag
B38: =DATE(YEAR(B5),11,7+CHOOSE(WEEKDAY(DATE(YEAR(B5),11,1)),1,0,6,5,4,3,2)) -> 41224 | C38: Fars dag
B39: =DATE(YEAR(B5),12,13) -> 41256 | C39: Lucia
B40: =DATE(YEAR(B5),12,24) -> 41267 | C40: Julafton
B41: =DATE(YEAR(B5),12,25) -> 41268 | C41: Juldagen
B42: =DATE(YEAR(B5),12,26) -> 41269 | C42: Annandag jul
B43: =DATE(YEAR(B5),12,31) -> 41274 | C43: Nyårsafton
B81: toni | C81: Tony Nilsson
